2.400000
0.000000
0.000000
-2.400000
313032.780000
3709090.260000
