2.400000
0.000000
0.000000
-2.400000
231231.520000
3697168.900000
