2.438400
0.000000
0.000000
-2.438400
662563.400473
3667289.824548
