2.400000
0.000000
0.000000
-2.400000
315618.370000
3847715.680000
