2.400000
0.000000
0.000000
-2.400000
268328.100000
3793302.690000
