2.400000
0.000000
0.000000
-2.400000
245399.060000
3793951.620000
