2.400000
0.000000
0.000000
-2.400000
269133.370000
3820990.650000
