2.400000
0.000000
0.000000
-2.400000
246115.590000
3821635.080000
