2.43840000
0.00000000
0.00000000
-2.43840000
538556.73462496
4997580.39243956
