2.43840000
0.00000000
0.00000000
-2.43840000
528467.28470234
5053056.71918239
