2.43840000
0.00000000
0.00000000
-2.43840000
508920.58659466
5094624.41038370
