2.438400000000
0.000000000000
0.000000000000
-2.438400000000
323634.459974129393
5069397.424469935700
