2.438400000000
0.000000000000
0.000000000000
-2.438400000000
722296.234928179299
5085212.778469129460
