2.438400
0.000000
0.000000
-2.438400
439653.840282
4997700.035298
