2.438400
0.000000
0.000000
-2.438400
469388.215604
5025219.031012
