2.438400000000
0.000000000000
0.000000000000
-2.438400000000
293637.727755210653
5042425.343344123103
