2.438400000000
0.000000000000
0.000000000000
-2.438400000000
275050.885495982540
5070870.600028991699
