2.438400000000
0.000000000000
0.000000000000
-2.438400000000
713429.118711573770
5057140.889054289080
