2.438400000000
0.000000000000
0.000000000000
-2.438400000000
460528.615154040395
5136541.203320192173
