2.438400000000
0.000000000000
0.000000000000
-2.438400000000
392823.814833589538
5123461.009127425960
