2.438400000000
0.000000000000
0.000000000000
-2.438400000000
718800.716452450260
5182326.907408776700
