2.438400000000
0.000000000000
0.000000000000
-2.438400000000
527636.639866726822
5164325.080175208859
