2.438400000000
0.000000000000
0.000000000000
-2.438400000000
479890.761765297444
5164075.536456680857
