2.438400000000
0.000000000000
0.000000000000
-2.438400000000
374223.199616732770
5151443.746065502100
