2.438400000000
0.000000000000
0.000000000000
-2.438400000000
345725.697152128790
5165995.612104276200
