2.438400000000
0.000000000000
0.000000000000
-2.438400000000
279490.122181031562
5195957.288390348665
