2.438400000000
0.000000000000
0.000000000000
-2.438400000000
423363.352612354734
5233985.937603263184
