2.438400000000
0.000000000000
0.000000000000
-2.438400000000
368242.101959801454
5318378.096083310433
