2.438400000000
0.000000000000
0.000000000000
-2.438400000000
704686.628788676811
5307141.544256363064
