2.438400000000
0.000000000000
0.000000000000
-2.438400000000
480223.580890849116
5219636.537316069930
