2.438400000000
0.000000000000
0.000000000000
-2.438400000000
442195.265273091208
5219886.080304653380
