2.438400000000
0.000000000000
0.000000000000
-2.438400000000
310742.931600021605
5278382.065031484700
