2.438400000000
0.000000000000
0.000000000000
-2.438400000000
639761.508452310576
5291016.876672940320
