2.438400000000
0.000000000000
0.000000000000
-2.438400000000
387423.533584354445
5345892.880985633470
