2.438400000000
0.000000000000
0.000000000000
-2.438400000000
332002.130224227323
5361155.950060549190
