2.438400000000
0.000000000000
0.000000000000
-2.438400000000
701192.005414566258
5404385.534972128458
