2.438400000000
0.000000000000
0.000000000000
-2.438400000000
700189.814862950006
5432168.522626914084
