2.438400000000
0.000000000000
0.000000000000
-2.438400000000
573103.320602475898
5373045.436658390790
