2.438400000000
0.000000000000
0.000000000000
-2.438400000000
498962.910190697585
5330897.887141318992
