2.438400000000
0.000000000000
0.000000000000
-2.438400000000
461773.490782376670
5331016.424376933835
