2.438400000000
0.000000000000
0.000000000000
-2.438400000000
480744.913404612802
5428191.610857661813
