2.438400000000
0.000000000000
0.000000000000
-2.438400000000
415128.683457793144
5331519.844516674057
