2.438400000000
0.000000000000
0.000000000000
-2.438400000000
378115.505634689296
5346081.239225672558
