2.438400000000
0.000000000000
0.000000000000
-2.438400000000
387963.291424532770
5373677.421857932582
