2.438400000000
0.000000000000
0.000000000000
-2.438400000000
397723.350485628820
5401286.927030193619
