2.438400000000
0.000000000000
0.000000000000
-2.438400000000
342986.243618009670
5416299.371759414700
