2.438400
0.000000
0.000000
-2.438400
764750.961975
3766785.788800
