2.438400
0.000000
0.000000
-2.438400
730120.224171
3765867.763698
