2.438400000000
0.000000000000
0.000000000000
-2.438400000000
763824.223102940828
3794703.092140843620
