2.438400000000
0.000000000000
0.000000000000
-2.438400000000
705647.293601590557
3820901.413818554480
